BEGIN:VCALENDAR
VERSION:2.0
PRODID:-//BURA | Boğaziçi Üniversiteliler Derneği - ECPv6.15.13//NONSGML v1.0//EN
CALSCALE:GREGORIAN
METHOD:PUBLISH
X-WR-CALNAME:BURA | Boğaziçi Üniversiteliler Derneği
X-ORIGINAL-URL:https://www.bura.org.tr
X-WR-CALDESC:BURA | Boğaziçi Üniversiteliler Derneği için etkinlikler
REFRESH-INTERVAL;VALUE=DURATION:PT1H
X-Robots-Tag:noindex
X-PUBLISHED-TTL:PT1H
BEGIN:VTIMEZONE
TZID:Europe/Istanbul
BEGIN:STANDARD
TZOFFSETFROM:+0300
TZOFFSETTO:+0300
TZNAME:+03
DTSTART:20230101T000000
END:STANDARD
END:VTIMEZONE
BEGIN:VEVENT
DTSTART;TZID=Europe/Istanbul:20241126T190000
DTEND;TZID=Europe/Istanbul:20241126T210000
DTSTAMP:20260420T151406
CREATED:20241120T132654Z
LAST-MODIFIED:20241121T073117Z
UID:11498-1732647600-1732654800@www.bura.org.tr
SUMMARY:Kişisel Gelişim ve Farkındalık Atölyesi-Diksiyon ve Etkili İletişim Eğitimi
DESCRIPTION:BURA Derneği olarak\, Boğaziçi Üniversitesi Geliştirme Vakfı (BUVAKIF) ile iş birliğinde gerçekleştirdiğimiz ve T.C. İçişleri Bakanlığı Sivil Toplumla İlişkiler Genel Müdürlüğü tarafından desteklenen Boğaziçi Sosyal Akademi Projesi  devam ediyor \n26 Kasım Salı günü saat 19.00’da dernek merkezimizde gerçekleşecek bu atölye: Diksiyon ve Etkili İletişim Eğitimi \nİletişim anlarında kendinizi daha güçlü hissetmeyi\, görüşmelerde kendinizi doğru ve açık şekilde ifade etmeyi ve daha güçlü bir hitabete sahip olmayı amaçlıyorsanız bu atölye tam size göre! Eğitmenimiz İletişimci ve Hitabet Eğitmeni Nur Haktan ile birlikte\,  konuşurken kendimizi en iyi şekilde ifade etmenin pratik ipuçlarını öğreneceğiniz etkinliğimize davetlisiniz. \n*Etkinlik ücretsizdir\, Boğaziçi Üniversitesi öğrencileri ve 18-35 Yaş arasındaki gençler başvurabilirler. \nKontenjan sınırlıdır. Katılım için teyit vermeniz rica olunur. \nBu program\, T.C. İçişleri Bakanlığı Sivil Toplumla İlişkiler Genel Müdürlüğü tarafından desteklenmektedir. \nETKİNLİĞE KATILNur Haktan Kimdir?\nİletişimci\, Hitabet Hocası 2000 yılında mikrofon ile tanıştı. Çeşitli radyolarda küçük yaşına rağmen spiker olarak görev yaptı. 2003 yılından bu yana sahne sanatlarıyla ilgileniyor. 2005 yılında yapılan İstanbul Liseler Arası İstiklal Marşı’nı Güzel Okuma Yarışması Birincisi olduktan sonra çeşitli belediye ve kurumların tercih ettiği sunucu haline geldi. 2008 yılında “Haydi Çocuklar” isminde çocuk şarkıları kategorisinde albüm çıkardı. Tematik televizyon ve radyolarda farklı kategorilerde programların yapımcılığı ve sunuculuğunu yaptı. Miyav isminde bir çocuk hikaye kitabı var. Birçok özel ve devlet kurumu adına organizasyonların planlanma ve icrasına ilişkin mesai yaptı\, sunumlarını gerçekleştirdi. Üniversiteler\, belediyeler ve özel kurumlarda iletişim konferansları ve hitabet eğitimleri verdi. Milyon+ takipçili sosyal medya sayfalarına içerik ve yönetim danışmanlığı yaptı. İki çocuk babası.
URL:https://www.bura.org.tr/etkinlik/kisisel-gelisim-ve-farkindalik-atolyesi-diksiyon-ve-etkili-iletisim-egitimi/
LOCATION:BURA Derneği\, Akat Mahallesi Tepecik Yolu Devran Apt. No:1 D:19 Beşiktaş\, İstanbul\, 34340\, Türkiye
CATEGORIES:Atölye,Boğaziçi Sosyal Akademi,Etkinlik
ATTACH;FMTTYPE=image/jpeg:https://www.bura.org.tr/wp-content/uploads/2024/11/one-cikan-Diksiyon-ve-Etkili-Iletisim-Egitimi-1.jpg
ORGANIZER;CN="BURA Derne%C4%9Fi":MAILTO:info@bura.org.tr
END:VEVENT
END:VCALENDAR