BEGIN:VCALENDAR
VERSION:2.0
PRODID:-//BURA | Boğaziçi Üniversiteliler Derneği - ECPv6.15.13//NONSGML v1.0//EN
CALSCALE:GREGORIAN
METHOD:PUBLISH
X-WR-CALNAME:BURA | Boğaziçi Üniversiteliler Derneği
X-ORIGINAL-URL:https://www.bura.org.tr
X-WR-CALDESC:BURA | Boğaziçi Üniversiteliler Derneği için etkinlikler
REFRESH-INTERVAL;VALUE=DURATION:PT1H
X-Robots-Tag:noindex
X-PUBLISHED-TTL:PT1H
BEGIN:VTIMEZONE
TZID:Europe/Istanbul
BEGIN:STANDARD
TZOFFSETFROM:+0300
TZOFFSETTO:+0300
TZNAME:+03
DTSTART:20230101T000000
END:STANDARD
END:VTIMEZONE
BEGIN:VEVENT
DTSTART;TZID=Europe/Istanbul:20241015T190000
DTEND;TZID=Europe/Istanbul:20241015T210000
DTSTAMP:20260424T122251
CREATED:20241009T131124Z
LAST-MODIFIED:20241009T131329Z
UID:11343-1729018800-1729026000@www.bura.org.tr
SUMMARY:Kişisel Gelişim ve Farkındalık Atölyesi- Liderlik ve Takım Çalışması Eğitimi
DESCRIPTION:BURA Derneği olarak\, Boğaziçi Üniversitesi Geliştirme Vakfı (BUVAKIF) ile iş birliğinde gerçekleştirdiğimiz ve T.C. İçişleri Bakanlığı Sivil Toplumla İlişkiler Genel Müdürlüğü tarafından desteklenen Boğaziçi Sosyal Akademi Projesi’nin ilk atölyesi: Kişisel Gelişim ve Farkındalık Atölyesi başlıyor! \n13 EKİM Salı günü saat 19.00’da dernek merkezimizde gerçekleşecek bu atölyenin ilk eğitimi:  Liderlik ve Takım Çalışması Eğitimi \nEğitim\, gençlerin iş ve okul ortamlarında etkili ve verimli takım çalışmaları yapabilmelerine yönelik önemli bilgiler sunmayı amaçlıyor. Eflatun Eğitim ve Danışmanlık şirketinin kurucusu\, deneyimli eğitmen Dr. Hüseyin Çırpan\, liderlerin ve ekiplerin potansiyellerini açığa çıkarmaları için gereken güncel yaklaşımları ve stratejileri katılımcılarla paylaşacak.  Bu eğitim\, takım çalışmasında daha başarılı olmak ve liderlik becerilerini geliştirmek isteyen gençler için kaçırılmayacak bir fırsat sunuyor! \n*Etkinlik ücretsizdir\, Boğaziçi Üniversitesi öğrencileri ve 18-35 Yaş arasındaki gençler başvurabilirler. \nKontenjan sınırlıdır. Katılım için teyit vermeniz rica olunur. \nBu program\, T.C. İçişleri Bakanlığı Sivil Toplumla İlişkiler Genel Müdürlüğü tarafından desteklenmektedir. \nETKİNLİĞE KATIL
URL:https://www.bura.org.tr/etkinlik/kisisel-gelisim-ve-farkindalik-atolyesi-liderlik-ve-takim-calismasi-egitimi/
LOCATION:BURA Derneği\, Akat Mahallesi Tepecik Yolu Devran Apt. No:1 D:19 Beşiktaş\, İstanbul\, 34340\, Türkiye
CATEGORIES:Atölye,Boğaziçi Sosyal Akademi,Etkinlik
ATTACH;FMTTYPE=image/jpeg:https://www.bura.org.tr/wp-content/uploads/2024/10/one-cikan-Liderlik-ve-Takim-Calismasi-Egitimi-2024.jpg
ORGANIZER;CN="BURA Derne%C4%9Fi":MAILTO:info@bura.org.tr
END:VEVENT
BEGIN:VEVENT
DTSTART;TZID=Europe/Istanbul:20241015T190000
DTEND;TZID=Europe/Istanbul:20241015T210000
DTSTAMP:20260424T122251
CREATED:20241213T104231Z
LAST-MODIFIED:20241213T104231Z
UID:11397-1729018800-1729026000@www.bura.org.tr
SUMMARY:Kişisel Gelişim ve Farkındalık Atölyesi- Liderlik ve Takım Çalışması Eğitimi
DESCRIPTION:BURA Derneği olarak\, Boğaziçi Üniversitesi Geliştirme Vakfı (BUVAKIF) ile iş birliğinde gerçekleştirdiğimiz ve T.C. İçişleri Bakanlığı Sivil Toplumla İlişkiler Genel Müdürlüğü tarafından desteklenen Boğaziçi Sosyal Akademi Projesi’nin ilk atölyesi: Kişisel Gelişim ve Farkındalık Atölyesi başlıyor! \n13 EKİM Salı günü saat 19.00’da dernek merkezimizde gerçekleşecek bu atölyenin ilk eğitimi:  Liderlik ve Takım Çalışması Eğitimi \nEğitim\, gençlerin iş ve okul ortamlarında etkili ve verimli takım çalışmaları yapabilmelerine yönelik önemli bilgiler sunmayı amaçlıyor. Eflatun Eğitim ve Danışmanlık şirketinin kurucusu\, deneyimli eğitmen Dr. Hüseyin Çırpan\, liderlerin ve ekiplerin potansiyellerini açığa çıkarmaları için gereken güncel yaklaşımları ve stratejileri katılımcılarla paylaşacak.  Bu eğitim\, takım çalışmasında daha başarılı olmak ve liderlik becerilerini geliştirmek isteyen gençler için kaçırılmayacak bir fırsat sunuyor! \n*Etkinlik ücretsizdir\, Boğaziçi Üniversitesi öğrencileri ve 18-35 Yaş arasındaki gençler başvurabilirler. \nKontenjan sınırlıdır. Katılım için teyit vermeniz rica olunur. \nBu program\, T.C. İçişleri Bakanlığı Sivil Toplumla İlişkiler Genel Müdürlüğü tarafından desteklenmektedir. \nETKİNLİĞE KATIL
URL:https://www.bura.org.tr/etkinlik/kisisel-gelisim-ve-farkindalik-atolyesi-liderlik-ve-takim-calismasi-egitimi-2/
LOCATION:BURA Derneği\, Akat Mahallesi Tepecik Yolu Devran Apt. No:1 D:19 Beşiktaş\, İstanbul\, 34340\, Türkiye
CATEGORIES:Atölye,Boğaziçi Sosyal Akademi,Etkinlik
ATTACH;FMTTYPE=image/jpeg:https://www.bura.org.tr/wp-content/uploads/2024/10/one-cikan-Liderlik-ve-Takim-Calismasi-Egitimi-2024.jpg
ORGANIZER;CN="BURA Derne%C4%9Fi":MAILTO:info@bura.org.tr
END:VEVENT
BEGIN:VEVENT
DTSTART;TZID=Europe/Istanbul:20241022T190000
DTEND;TZID=Europe/Istanbul:20241022T210000
DTSTAMP:20260424T122251
CREATED:20241016T105317Z
LAST-MODIFIED:20241021T092859Z
UID:11398-1729623600-1729630800@www.bura.org.tr
SUMMARY:Kişisel Gelişim ve Farkındalık Atölyesi- İş Görüşmesi ve Mülakat Teknikleri Atölyesi
DESCRIPTION:BURA Derneği olarak\, Boğaziçi Üniversitesi Geliştirme Vakfı (BUVAKIF) ile iş birliğinde gerçekleştirdiğimiz ve T.C. İçişleri Bakanlığı Sivil Toplumla İlişkiler Genel Müdürlüğü tarafından desteklenen Boğaziçi Sosyal Akademi Projesi ikinci atölyesi ile devam ediyor \n22 EKİM Salı günü saat 19.00’da dernek merkezimizde gerçekleşecek bu atölye: İş Görüşmesi ve Mülakat Teknikleri Atölyesi \nKariyer yolculuğunuzda kendinizi daha güçlü hissetmeyi ve görüşmelerde kendinizi daha iyi ifade etmeyi amaçlıyorsanız\, bu atölye tam size göre! Eğitmenimiz İnsan kaynakları uzmanı Ahmet Sungur ile birlikte\, mülakatlarda kendinizi en iyi şekilde ifade etmenin pratik ipuçlarını öğreneceğiniz ve kariyer hedeflerinize bir adım daha yaklaşacağınız etkinliğimize davetlisiniz. \n*Etkinlik ücretsizdir\, Boğaziçi Üniversitesi öğrencileri ve 18-35 Yaş arasındaki gençler başvurabilirler. \nKontenjan sınırlıdır. Katılım için teyit vermeniz rica olunur. \nBu program\, T.C. İçişleri Bakanlığı Sivil Toplumla İlişkiler Genel Müdürlüğü tarafından desteklenmektedir. \nETKİNLİĞE KATIL
URL:https://www.bura.org.tr/etkinlik/kisisel-gelisim-ve-farkindalik-atolyesi-is-gorusmesi-ve-mulakat-teknikleri-atolyesi/
LOCATION:BURA Derneği\, Akat Mahallesi Tepecik Yolu Devran Apt. No:1 D:19 Beşiktaş\, İstanbul\, 34340\, Türkiye
CATEGORIES:Atölye,Boğaziçi Sosyal Akademi,Etkinlik
ATTACH;FMTTYPE=image/jpeg:https://www.bura.org.tr/wp-content/uploads/2024/10/one-cikan-Is-Gorusmesi-ve-Mulakat-Teknikleri-Egitimi.jpg
ORGANIZER;CN="BURA Derne%C4%9Fi":MAILTO:info@bura.org.tr
END:VEVENT
BEGIN:VEVENT
DTSTART;TZID=Europe/Istanbul:20241023T173000
DTEND;TZID=Europe/Istanbul:20241023T190000
DTSTAMP:20260424T122251
CREATED:20241021T075013Z
LAST-MODIFIED:20241021T075013Z
UID:11408-1729704600-1729710000@www.bura.org.tr
SUMMARY:Yarı Zamanlı Çalışmak- İş Hayatına İlk Adım
DESCRIPTION:Yarı Zamanlı Çalışma- İş Hayatına İlk Adım \nBURA Derneği olarak\, öğrencilik hayatında yarı zamanlı çalışma deneyimlerini paylaşmak üzere mezunlarımızla bir araya geliyoruz! Bu oturumda\, öğrenciliklerine devam ederken iş hayatına erkenden adım atmış mezunlarımız\, kendi tecrübelerini sizlerle paylaşıp akıllara takılan sorulara cevap verecekler. \nPeki bu oturumda sizleri neler bekliyor? \n\nYarı zamanlı çalışmanın artıları ve eksileri\nİş-Okul Dengesi\nYarı zamanlı sonrası tam zamanlı çalışma hayatına geçiş\nÜcretler ve Haklar\nBaşvurular ve Dikkat Edilmesi Gerekenler\n\nTeknoloji sektöründe kariyer hedefleyen tüm öğrencilerimizi ( özellikle 3. ve 4. sınıf ) oturumumuza bekliyoruz. \nETKİNLİĞE KATIL
URL:https://www.bura.org.tr/etkinlik/yari-zamanli-calismak-is-hayatina-ilk-adim/
LOCATION:BURA Derneği\, Akat Mahallesi Tepecik Yolu Devran Apt. No:1 D:19 Beşiktaş\, İstanbul\, 34340\, Türkiye
CATEGORIES:Atölye,Boğaziçi Sosyal Akademi,Etkinlik
ATTACH;FMTTYPE=image/jpeg:https://www.bura.org.tr/wp-content/uploads/2024/10/one-cikan-yari-zamanli-calismak-2024.jpg
ORGANIZER;CN="BURA Derne%C4%9Fi":MAILTO:info@bura.org.tr
END:VEVENT
BEGIN:VEVENT
DTSTART;TZID=Europe/Istanbul:20241026T090000
DTEND;TZID=Europe/Istanbul:20241026T130000
DTSTAMP:20260424T122251
CREATED:20241017T124602Z
LAST-MODIFIED:20241022T074408Z
UID:11402-1729933200-1729947600@www.bura.org.tr
SUMMARY:İstanbul’u Tanıma Atölyesi – Beylerbeyi Sarayı Gezisi
DESCRIPTION:Boğaziçi Sosyal Akademi’nin İstanbul’u Tanıma Atölyesi kapsamında\, keyifli bir kültür gezisine çıkıyoruz! \n26 Ekim Cumartesi günü Rehberimiz Ömer Faruk Deliktaş ile İstanbul’un tarihi ve kültürel zenginliklerini keşfedeceğiz. İlk durağımız\, ihtişamıyla göz kamaştıran Beylerbeyi Sarayı olacak. Osmanlı İmparatorluğu döneminin zarif mimarisini ve ihtişamlı bahçelerini keşfederken tarihe yolculuk yapacağız. Ardından\, Beylerbeyi Bedevi Tekkesi ziyaret edeceğiz. Tekkede\, dönemin geleneksel yaşam tarzı ve manevi atmosferi hakkında bilgi edineceğiz. \nSonrasında\, Küplüce Mezarlığı’nı ziyaret ederek burada medfun önemli şahsiyetlerin hikayelerini dinleyeceğiz. İstanbul’un tarihine ışık tutan bu mekanda\, geçmişin izlerini takip edeceğiz. Bir sonraki durağımız Mehmet Akif Ersoy’un Evi olacak. Türk milletinin büyük şairlerinden Akif’in yaşamına ve eserlerine dair daha fazla bilgi edinme fırsatı bulacağız. \nGezimizin son durağı ise Beylerbeyi Hamid-i Evvel Camii olacak. \nİstanbul’un tarihi ve kültürel zenginliklerini keşfedeceğimiz bu keyifli yolculuğumuza 18-35 yaş aralığındaki herkes davetlidir. \n*Katılımcıların Müzekartlarını yanlarında bulundurmaları gerekmektedir.   \nETKİNLİĞE KATIL
URL:https://www.bura.org.tr/etkinlik/istanbulu-tanima-atolyesi-beylerbeyi-sarayi-gezisi/
LOCATION:BURA Derneği\, Akat Mahallesi Tepecik Yolu Devran Apt. No:1 D:19 Beşiktaş\, İstanbul\, 34340\, Türkiye
CATEGORIES:Atölye,Boğaziçi Sosyal Akademi,Etkinlik
ATTACH;FMTTYPE=image/jpeg:https://www.bura.org.tr/wp-content/uploads/2024/10/ONE-CIKAN-Beylerbeyi-Gezisi.jpg
ORGANIZER;CN="BURA Derne%C4%9Fi":MAILTO:info@bura.org.tr
END:VEVENT
END:VCALENDAR