BEGIN:VCALENDAR
VERSION:2.0
PRODID:-//BURA | Boğaziçi Üniversiteliler Derneği - ECPv6.15.13//NONSGML v1.0//EN
CALSCALE:GREGORIAN
METHOD:PUBLISH
X-WR-CALNAME:BURA | Boğaziçi Üniversiteliler Derneği
X-ORIGINAL-URL:https://www.bura.org.tr
X-WR-CALDESC:BURA | Boğaziçi Üniversiteliler Derneği için etkinlikler
REFRESH-INTERVAL;VALUE=DURATION:PT1H
X-Robots-Tag:noindex
X-PUBLISHED-TTL:PT1H
BEGIN:VTIMEZONE
TZID:Europe/Istanbul
BEGIN:STANDARD
TZOFFSETFROM:+0300
TZOFFSETTO:+0300
TZNAME:+03
DTSTART:20230101T000000
END:STANDARD
END:VTIMEZONE
BEGIN:VEVENT
DTSTART;TZID=Europe/Istanbul:20240507T190000
DTEND;TZID=Europe/Istanbul:20240507T190000
DTSTAMP:20260424T195232
CREATED:20240430T114403Z
LAST-MODIFIED:20240430T114741Z
UID:10814-1715108400-1715108400@www.bura.org.tr
SUMMARY:Gönüllük Atölyesi: Gönüllülük ve Gönüllü Yönetimi Semineri
DESCRIPTION:BURA Derneği olarak\, Boğaziçi Üniversitesi Geliştirme Vakfı (BUVAKIF) ile iş birliğinde gerçekleştirdiğimiz ve T.C. İçişleri Bakanlığı Sivil Toplumla İlişkiler Genel Müdürlüğü tarafından desteklenen BURA Sosyal Akademi Projesi’nin dördüncü ve son atölyesinde gönüllülüğü konuşacağız. \nProje kapsamında düzenlenen Gönüllülük Atölyesi’nde\, Yeryüzü Çocukları Derneğinde Gönüllü Yönetimi ve Organizasyon Departmanı sorumlusu olarak çalışan Hasret Kübra Bayrak ile bir araya geleceğiz. Bu oturumda\, Hasret Kübra Bayrak’ın geçmiş iş tecrübelerinden yola çıkarak gönüllülük ve gönüllü yönetimi konularını ele alacağız. \nProgram dernek merkezimizde gerçekleşecektir. \n*Etkinlik ücretsizdir ve kontenjan sınırlıdır. \n*Katılım için teyit vermeniz rica olunur. \nBu program\, T.C. İçişleri Bakanlığı Sivil Toplumla İlişkiler Genel Müdürlüğü tarafından desteklenmektedir. \nHasret Kübra Bayrak Kimdir?\n\n\n1997 Ordu doğumludur. İlkokul\, ortaokul ve lise eğitimini Ordu’da tamamlamıştır. Marmara Üniversitesi İlköğretim Matematik Öğretmenliği bölümü mezunudur. 4 yıl boyunca çeşitli sivil toplum kuruluşlarında gönüllülük tecrübesi edindi. Halihazırda Yeryüzü Çocukları Derneği Gönüllü Yönetimi ve Organizasyon Departmanı sorumlusu olarak çalışmaktadır.\n\n\n\nETKİNLİĞE KATIL
URL:https://www.bura.org.tr/etkinlik/gonulluk-atolyesi-gonulluluk-ve-gonullu-yonetimi-semineri-2024/
LOCATION:BURA Derneği\, Akat Mahallesi Tepecik Yolu Devran Apt. No:1 D:19 Beşiktaş\, İstanbul\, 34340\, Türkiye
CATEGORIES:Atölye,BURA Sosyal Akademi,Etkinlik
ATTACH;FMTTYPE=image/jpeg:https://www.bura.org.tr/wp-content/uploads/2024/04/fonzip-Gonulluluk-ve-Gonullu-Yonetimi-Semineri.jpg
ORGANIZER;CN="BURA Derne%C4%9Fi":MAILTO:info@bura.org.tr
END:VEVENT
END:VCALENDAR