BEGIN:VCALENDAR
VERSION:2.0
PRODID:-//BURA | Boğaziçi Üniversiteliler Derneği - ECPv6.15.13//NONSGML v1.0//EN
CALSCALE:GREGORIAN
METHOD:PUBLISH
X-ORIGINAL-URL:https://www.bura.org.tr
X-WR-CALDESC:BURA | Boğaziçi Üniversiteliler Derneği için etkinlikler
REFRESH-INTERVAL;VALUE=DURATION:PT1H
X-Robots-Tag:noindex
X-PUBLISHED-TTL:PT1H
BEGIN:VTIMEZONE
TZID:Europe/Istanbul
BEGIN:STANDARD
TZOFFSETFROM:+0300
TZOFFSETTO:+0300
TZNAME:+03
DTSTART:20230101T000000
END:STANDARD
END:VTIMEZONE
BEGIN:VEVENT
DTSTART;TZID=Europe/Istanbul:20240302T103000
DTEND;TZID=Europe/Istanbul:20240302T103000
DTSTAMP:20260424T224146
CREATED:20240226T150617Z
LAST-MODIFIED:20240226T153946Z
UID:10555-1709375400-1709375400@www.bura.org.tr
SUMMARY:Kişisel Gelişim Atölyesi: Proje Döngüsü Eğitimi
DESCRIPTION:BURA Derneği olarak\, Boğaziçi Üniversitesi Geliştirme Vakfı (BUVAKIF) ile iş birliğinde gerçekleştirdiğimiz ve T.C. İçişleri Bakanlığı Sivil Toplumla İlişkiler Genel Müdürlüğü tarafından desteklenen BURA Sosyal Akademi Projesi devam ediyor. \nKişisel Gelişim Atölyesi’nin üçüncü ve son oturumu için\, ITT Technology Proje Yöneticisi Said Oflaz ile bir araya geleceğiz. Bu oturumda\, günümüz dünyasında birçok kamu kurumu\, sivil toplum örgütü ve özel sektör firmasının sıkça kullandığı proje döngüsünü ele alacağız. Program BUVAKIF Öğrenci Merkezi‘nde gerçekleşecektir. \n*Etkinlik ücretsizdir ve kontenjan sınırlıdır. \n*Katılım için teyit vermeniz rica olunur. \nBu program\, T.C. İçişleri Bakanlığı Sivil Toplumla İlişkiler Genel Müdürlüğü tarafından desteklenmektedir. \nETKİNLİĞE KATIL
URL:https://www.bura.org.tr/etkinlik/kisisel-gelisim-atolyesi-proje-dongusu-egitimi-2024/
LOCATION:BUVAKIF Öğrenci Merkezi\, Bebek\, Günaydın Yolu Sk. No:2\, İstanbul\, Beşiktaş\, 34342
CATEGORIES:Atölye,BURA Sosyal Akademi,Etkinlik
ATTACH;FMTTYPE=image/jpeg:https://www.bura.org.tr/wp-content/uploads/2024/02/one-cikan-sosyal-akademi-said-oflaz-2024-jpg.webp
ORGANIZER;CN="BURA Derne%C4%9Fi":MAILTO:info@bura.org.tr
END:VEVENT
END:VCALENDAR