BEGIN:VCALENDAR
VERSION:2.0
PRODID:-//BURA | Boğaziçi Üniversiteliler Derneği - ECPv6.15.13//NONSGML v1.0//EN
CALSCALE:GREGORIAN
METHOD:PUBLISH
X-WR-CALNAME:BURA | Boğaziçi Üniversiteliler Derneği
X-ORIGINAL-URL:https://www.bura.org.tr
X-WR-CALDESC:BURA | Boğaziçi Üniversiteliler Derneği için etkinlikler
REFRESH-INTERVAL;VALUE=DURATION:PT1H
X-Robots-Tag:noindex
X-PUBLISHED-TTL:PT1H
BEGIN:VTIMEZONE
TZID:Europe/Istanbul
BEGIN:STANDARD
TZOFFSETFROM:+0300
TZOFFSETTO:+0300
TZNAME:+03
DTSTART:20220101T000000
END:STANDARD
END:VTIMEZONE
BEGIN:VEVENT
DTSTART;TZID=Europe/Istanbul:20230924T100000
DTEND;TZID=Europe/Istanbul:20230924T120000
DTSTAMP:20260424T125113
CREATED:20230915T103450Z
LAST-MODIFIED:20230923T055122Z
UID:10038-1695549600-1695556800@www.bura.org.tr
SUMMARY:BURA Manzara Kahvaltısı
DESCRIPTION:🗓️ 24 Eylül 2023 Pazar | 10.00-12.00\n📍 Kennedy Lodge / Güney Kampüs\, Boğaziçi Üniversitesi\nHer yıl olduğu gibi bu yıl da manzara kahvaltısında bir araya geliyoruz. BURA Ailesi olarak 24 Eylül Pazar günü Kennedy Lodge’de düzenleyeceğimiz kahvaltıda üyelerimiz\, mezunlarımız ve öğrencilerimizle keyifli bir gün geçireceğiz. \nKahvaltı programımıza tüm üye\, mezun ve öğrencilerimizi bekliyoruz. Program kontenjanımız sınırlıdır\, katılım için teyit verilmesi rica olunur. \nKahvaltı esnasında çocuklarımızın keyifli vakit geçirmeleri için çeşitli etkinliklerimiz olacaktır. \n*Programımız Boğaziçi Üniversitesi mezunlarına ve öğrencilerine yöneliktir. \n*Etkinliğe katılım öğrenciler için 100₺ olup\, üyelerimize 250₺\, mezunlarımıza 400₺\, 3-9 yaş çocuklar için 100₺\, 10-18 yaş çocuklar için ise 200₺’dir. \n*Çocuklar için biletleri ayrı oluşturmanızı rica ederiz. \n*Kahvaltı servisi 10.00’da başlayacaktır. \n*Katılım için son gün 23 Eylül Cumartesi\, saat 12.00’dır. \nKontenjanımız dolmuştur\, ilginiz için teşekkür ederiz. \nETKİNLİĞE KATIL
URL:https://www.bura.org.tr/etkinlik/bura-manzara-kahvaltisi-2023/
LOCATION:Kennedy Lodge\, Boğaziçi Üniversitesi Güney Kampüsü\, 34342 Beşiktaş/İstanbul\, Türkiye
CATEGORIES:Etkinlik
ATTACH;FMTTYPE=image/png:https://www.bura.org.tr/wp-content/uploads/2023/09/manzara-kahvaltisi-2023-site-one-cikan.png
ORGANIZER;CN="BURA Derne%C4%9Fi":MAILTO:info@bura.org.tr
END:VEVENT
BEGIN:VEVENT
DTSTART;TZID=Europe/Istanbul:20230930T100000
DTEND;TZID=Europe/Istanbul:20230930T123000
DTSTAMP:20260424T125113
CREATED:20230919T125017Z
LAST-MODIFIED:20230919T133311Z
UID:10042-1696068000-1696077000@www.bura.org.tr
SUMMARY:Boğaziçine Hoş Geldin Kahvaltısı
DESCRIPTION:Sevgili Boğaziçili Öğrenciler\, \nBir araya gelme vakti geldi! BURA Derneği olarak her yıl düzenlediğimiz hazırlık ve 1. sınıf öğrencilerine yönelik “Hoş Geldin” kahvaltısı bu yıl 30 Eylül Cumartesi günü Kennedy Lodge’de gerçekleşecek. Bu etkinlik\, yeni arkadaşlar edinmek\, öğrenmek ve keyifli bir gün geçirmek için mükemmel bir fırsatın kapılarını aralıyor. \nKahvaltıda sizleri neler mi bekliyor? \n\nÜst dönem öğrenciler ve mezunlar\, sizlere kendi üniversite deneyimlerini anlatarak rehberlik edecekler. Onlardan öğrenecek çok şeyiniz olacak!\nÖdüllü yarışmalar ve sürpriz hediyeler sizi bekliyor.Heyecanı ve rekabeti hissedin!\nEtkinlikte\, yeni dostluklar kurma\, geleceğin liderleriyle tanışma fırsatı yakalayacaksınız.\n\nUnutulmaz anılar biriktirmek ve yeni bağlantılar kurmak için hazır olun. Sizi\, Kennedy Lodge’deki bu keyifli kahvaltı programında görmek için sabırsızlanıyoruz! \nPROGRAMA KATIL
URL:https://www.bura.org.tr/etkinlik/bogazicine-hos-geldin-kahvaltisi-2023/
LOCATION:Kennedy Lodge\, Boğaziçi Üniversitesi Güney Kampüsü\, 34342 Beşiktaş/İstanbul\, Türkiye
CATEGORIES:Etkinlik
ATTACH;FMTTYPE=image/jpeg:https://www.bura.org.tr/wp-content/uploads/2023/09/bogazicine-hos-geldin-kahvaltisi-2023-one-cikan-web-jpg.webp
ORGANIZER;CN="BURA Derne%C4%9Fi":MAILTO:info@bura.org.tr
END:VEVENT
END:VCALENDAR